BEGIN:VCALENDAR
VERSION:2.0
PRODID:-//eventon.com NONSGML v1.0//EN
CALSCALE:GREGORIAN
METHOD:PUBLISH
BEGIN:VEVENT
UID:69e609843d602
DTSTAMP:20260420T110956Z
DTSTART:20260518T170000Z
DTEND:20260519T210000Z
LOCATION:
SUMMARY:Fair Housing + Reasonable Accommodations - Online - May
DESCRIPTION:Fair Housing + Reasonable Accommodations - Online - May\nhttps:
 //quadel.com/events/fair-housing-essentials-for-non-pha-staff-online-may/
URL:https://quadel.com/events/fair-housing-essentials-for-non-pha-staff-online-may/
END:VEVENT
END:VCALENDAR