BEGIN:VCALENDAR
VERSION:2.0
PRODID:-//eventon.com NONSGML v1.0//EN
CALSCALE:GREGORIAN
METHOD:PUBLISH
BEGIN:VEVENT
UID:69e8659d32e66
DTSTAMP:20260422T060725Z
DTSTART:20200218T083000Z
DTEND:20200220T170000Z
LOCATION:
SUMMARY:LIHTC - Philadelphia\,  PA
DESCRIPTION:LIHTC - Philadelphia\,  PA\nhttps://quadel.com/events/lihtc-phi
 ladelphia-pa/
URL:https://quadel.com/events/lihtc-philadelphia-pa/
END:VEVENT
END:VCALENDAR