BEGIN:VCALENDAR
VERSION:2.0
PRODID:-//eventon.com NONSGML v1.0//EN
CALSCALE:GREGORIAN
METHOD:PUBLISH
BEGIN:VEVENT
UID:69e74c3d02f54
DTSTAMP:20260421T100653Z
DTSTART:20250625T003000Z
DTEND:20250626T210000Z
LOCATION:
SUMMARY:LIHTC Compliance Specialist - In-Person - Hosted by Neighbors of Watertown
DESCRIPTION:LIHTC Compliance Specialist - In-Person - Hosted by Neighbors o
 f Watertown\nhttps://quadel.com/events/lihtc-compliance-specialist-in-perso
 n-hosted-by-neighbors-of-watertown/
URL:https://quadel.com/events/lihtc-compliance-specialist-in-person-hosted-by-neighbors-of-watertown/
END:VEVENT
END:VCALENDAR