BEGIN:VCALENDAR
VERSION:2.0
PRODID:-//eventon.com NONSGML v1.0//EN
CALSCALE:GREGORIAN
METHOD:PUBLISH
BEGIN:VEVENT
UID:69e5f11690aeb
DTSTAMP:20260420T092542Z
DTSTART:20260325T170000Z
DTEND:20260326T210000Z
LOCATION:
SUMMARY:HOTMA Fundamentals - Online - March
DESCRIPTION:HOTMA Fundamentals - Online - March\nhttps://quadel.com/events/
 hotma-fundamentals-online-march/
URL:https://quadel.com/events/hotma-fundamentals-online-march/
END:VEVENT
END:VCALENDAR