BEGIN:VCALENDAR
VERSION:2.0
PRODID:-//eventon.com NONSGML v1.0//EN
CALSCALE:GREGORIAN
METHOD:PUBLISH
BEGIN:VEVENT
UID:69e60713f2cb7
DTSTAMP:20260420T105931Z
DTSTART:20260727T170000Z
DTEND:20260731T210000Z
LOCATION:
SUMMARY:HCV Specialist 360 - Online - July - UPDATED COURSE
DESCRIPTION:HCV Specialist 360 - Online - July - UPDATED COURSE\nhttps://qu
 adel.com/events/hcv-specialist-360-online-july-updated-course/
URL:https://quadel.com/events/hcv-specialist-360-online-july-updated-course/
END:VEVENT
END:VCALENDAR