BEGIN:VCALENDAR
VERSION:2.0
PRODID:-//eventon.com NONSGML v1.0//EN
CALSCALE:GREGORIAN
METHOD:PUBLISH
BEGIN:VEVENT
UID:69e8f32047322
DTSTAMP:20260422T161112Z
DTSTART:20260623T200000Z
DTEND:20260626T000000Z
LOCATION:
SUMMARY:HCV Specialist 360 - Denver\,  CO - Hosted by CHFA
DESCRIPTION:HCV Specialist 360 - Denver\,  CO - Hosted by CHFA\nhttps://qua
 del.com/events/hcv-specialist-360-denver-co-hosted-by-chfa/
URL:https://quadel.com/events/hcv-specialist-360-denver-co-hosted-by-chfa/
END:VEVENT
END:VCALENDAR