BEGIN:VCALENDAR
VERSION:2.0
PRODID:-//eventon.com NONSGML v1.0//EN
CALSCALE:GREGORIAN
METHOD:PUBLISH
BEGIN:VEVENT
UID:69e63265cb495
DTSTAMP:20260420T140421Z
DTSTART:20200812T140000Z
DTEND:20200812T153000Z
LOCATION:
SUMMARY:Waiver Compliance
DESCRIPTION:Waiver Compliance\nhttps://quadel.com/events/waiver-compliance/
URL:https://quadel.com/events/waiver-compliance/
END:VEVENT
END:VCALENDAR