BEGIN:VCALENDAR
VERSION:2.0
PRODID:-//eventon.com NONSGML v1.0//EN
CALSCALE:GREGORIAN
METHOD:PUBLISH
BEGIN:VEVENT
UID:69e60317e1a5f
DTSTAMP:20260420T104231Z
DTSTART:20220405T000000Z
DTEND:20220409T040000Z
LOCATION:
SUMMARY:HCV Specialist - April
DESCRIPTION:HCV Specialist - April\nhttps://quadel.com/events/hcv-specialis
 t-february/
URL:https://quadel.com/events/hcv-specialist-february/
END:VEVENT
END:VCALENDAR