BEGIN:VCALENDAR
VERSION:2.0
PRODID:-//eventon.com NONSGML v1.0//EN
CALSCALE:GREGORIAN
METHOD:PUBLISH
BEGIN:VEVENT
UID:69e74e38a27e6
DTSTAMP:20260421T101520Z
DTSTART:20250407T170000Z
DTEND:20250409T210000Z
LOCATION:
SUMMARY:HCV Supervisor & Manager Online - April
DESCRIPTION:HCV Supervisor & Manager Online - April\nhttps://quadel.com/eve
 nts/hcv-supervisor-manager-march/
URL:https://quadel.com/events/hcv-supervisor-manager-march/
END:VEVENT
END:VCALENDAR