BEGIN:VCALENDAR
VERSION:2.0
PRODID:-//eventon.com NONSGML v1.0//EN
CALSCALE:GREGORIAN
METHOD:PUBLISH
BEGIN:VEVENT
UID:69e74d8d9e920
DTSTAMP:20260421T101229Z
DTSTART:20260608T170000Z
DTEND:20260612T210000Z
LOCATION:
SUMMARY:Assisted Multifamily Housing Manager - Online - June
DESCRIPTION:Assisted Multifamily Housing Manager - Online - June\nhttps://q
 uadel.com/events/ahm-online-june/
URL:https://quadel.com/events/ahm-online-june/
END:VEVENT
END:VCALENDAR