BEGIN:VCALENDAR
VERSION:2.0
PRODID:-//eventon.com NONSGML v1.0//EN
CALSCALE:GREGORIAN
METHOD:PUBLISH
BEGIN:VEVENT
UID:69e9e2776f936
DTSTAMP:20260423T091223Z
DTSTART:20260331T170000Z
DTEND:20260402T210000Z
LOCATION:
SUMMARY:HCV Rent Calculation - Online - April
DESCRIPTION:HCV Rent Calculation - Online - April\nhttps://quadel.com/event
 s/hcv-public-housing-rent-calculation-july-2021/
URL:https://quadel.com/events/hcv-public-housing-rent-calculation-july-2021/
END:VEVENT
END:VCALENDAR