BEGIN:VCALENDAR
VERSION:2.0
PRODID:-//eventon.com NONSGML v1.0//EN
CALSCALE:GREGORIAN
METHOD:PUBLISH
BEGIN:VEVENT
UID:69e765dda2a4d
DTSTAMP:20260421T115613Z
DTSTART:20230503T170000Z
DTEND:20230504T210000Z
LOCATION:
SUMMARY:Fair Housing Essentials - Online
DESCRIPTION:Fair Housing Essentials - Online\nhttps://quadel.com/events/fai
 r-housing-reasonable-accommodation-essentials-june-2021/
URL:https://quadel.com/events/fair-housing-reasonable-accommodation-essentials-june-2021/
END:VEVENT
END:VCALENDAR